BEGIN:VCALENDAR
VERSION:2.0
PRODID:-//Tukios.com/
BEGIN:VEVENT
UID:500bc007-312b-42b0-8fa9-5f0ab442e110@www.poteetfuneralhome.com
DTSTAMP:20260422T061521Z
DTSTART:20260423T000000Z
DTEND:20260423T010000Z
SUMMARY:Prayer Service
DESCRIPTION:
URL:https://www.poteetfuneralhome.com/obituaries/addie-tohee
LOCATION:  Otoe Avenue  Red Rock OK 74651
GEO:36.460502;-97.175917
END:VEVENT
END:VCALENDAR