BEGIN:VCALENDAR
VERSION:2.0
PRODID:-//Tukios.com/
BEGIN:VEVENT
UID:b1b6ac24-7d58-4099-b9bd-b32d4fb9dc06@www.poteetfuneralhome.com
DTSTAMP:20260422T062244Z
DTSTART:20260423T170000Z
DTEND:20260423T180000Z
SUMMARY:Funeral Service
DESCRIPTION:
URL:https://www.poteetfuneralhome.com/obituaries/addie-tohee
LOCATION:  Otoe Avenue  Red Rock OK 74651
GEO:36.460502;-97.175917
END:VEVENT
END:VCALENDAR