BEGIN:VCALENDAR
VERSION:2.0
PRODID:-//Tukios.com/
BEGIN:VEVENT
UID:b9350f56-3522-4bf3-8d62-6f3c50136593@www.poteetfuneralhome.com
DTSTAMP:20260422T061619Z
DTSTART:20260423T190000Z
DTEND:20260423T200000Z
SUMMARY:Burial
DESCRIPTION:
URL:https://www.poteetfuneralhome.com/obituaries/addie-tohee
LOCATION:    Red Rock OK 74651
GEO:36.4583803;-97.178487
END:VEVENT
END:VCALENDAR