BEGIN:VCALENDAR
VERSION:2.0
PRODID:-//Tukios.com/
BEGIN:VEVENT
UID:88d956ce-f7fd-45e9-a8f5-bf318aa975db@www.poteetfuneralhome.com
DTSTAMP:20260421T180140Z
DTSTART:20260423T223000Z
DTEND:20260424T003000Z
SUMMARY:Visitation
DESCRIPTION:
URL:https://www.poteetfuneralhome.com/obituaries/eddie-williamson
LOCATION:Ryan Mortuary 137 North 8th Street  Salina KS 67401
GEO:38.8418574;-97.6118322
END:VEVENT
END:VCALENDAR