BEGIN:VCALENDAR
VERSION:2.0
PRODID:-//Tukios.com/
BEGIN:VEVENT
UID:d247af5c-cd0b-4811-883a-dee9734115ae@www.poteetfuneralhome.com
DTSTAMP:20260422T213019Z
DTSTART:20260425T160000Z
DTEND:20260425T170000Z
SUMMARY:Memorial Service
DESCRIPTION:
URL:https://www.poteetfuneralhome.com/obituaries/lonnie-eddings
LOCATION: 100 Market Street  Pawnee OK 74058
GEO:36.379575;-96.707051
END:VEVENT
END:VCALENDAR